BEGIN:VCALENDAR
VERSION:2.0
PRODID:-//CORPS CONSULAIRE DE LA PROVINCE DE LIÈGE - ECPv6.15.20//NONSGML v1.0//EN
CALSCALE:GREGORIAN
METHOD:PUBLISH
X-ORIGINAL-URL:https://corpsconsulaireliege.be
X-WR-CALDESC:Évènements pour CORPS CONSULAIRE DE LA PROVINCE DE LIÈGE
REFRESH-INTERVAL;VALUE=DURATION:PT1H
X-Robots-Tag:noindex
X-PUBLISHED-TTL:PT1H
BEGIN:VTIMEZONE
TZID:Europe/Brussels
BEGIN:DAYLIGHT
TZOFFSETFROM:+0100
TZOFFSETTO:+0200
TZNAME:CEST
DTSTART:20240331T010000
END:DAYLIGHT
BEGIN:STANDARD
TZOFFSETFROM:+0200
TZOFFSETTO:+0100
TZNAME:CET
DTSTART:20241027T010000
END:STANDARD
BEGIN:DAYLIGHT
TZOFFSETFROM:+0100
TZOFFSETTO:+0200
TZNAME:CEST
DTSTART:20250330T010000
END:DAYLIGHT
BEGIN:STANDARD
TZOFFSETFROM:+0200
TZOFFSETTO:+0100
TZNAME:CET
DTSTART:20251026T010000
END:STANDARD
BEGIN:DAYLIGHT
TZOFFSETFROM:+0100
TZOFFSETTO:+0200
TZNAME:CEST
DTSTART:20260329T010000
END:DAYLIGHT
BEGIN:STANDARD
TZOFFSETFROM:+0200
TZOFFSETTO:+0100
TZNAME:CET
DTSTART:20261025T010000
END:STANDARD
END:VTIMEZONE
BEGIN:VTIMEZONE
TZID:Europe/Paris
BEGIN:DAYLIGHT
TZOFFSETFROM:+0100
TZOFFSETTO:+0200
TZNAME:CEST
DTSTART:20240331T010000
END:DAYLIGHT
BEGIN:STANDARD
TZOFFSETFROM:+0200
TZOFFSETTO:+0100
TZNAME:CET
DTSTART:20241027T010000
END:STANDARD
BEGIN:DAYLIGHT
TZOFFSETFROM:+0100
TZOFFSETTO:+0200
TZNAME:CEST
DTSTART:20250330T010000
END:DAYLIGHT
BEGIN:STANDARD
TZOFFSETFROM:+0200
TZOFFSETTO:+0100
TZNAME:CET
DTSTART:20251026T010000
END:STANDARD
BEGIN:DAYLIGHT
TZOFFSETFROM:+0100
TZOFFSETTO:+0200
TZNAME:CEST
DTSTART:20260329T010000
END:DAYLIGHT
BEGIN:STANDARD
TZOFFSETFROM:+0200
TZOFFSETTO:+0100
TZNAME:CET
DTSTART:20261025T010000
END:STANDARD
END:VTIMEZONE
BEGIN:VEVENT
DTSTART;TZID=Europe/Brussels:20251204T183000
DTEND;TZID=Europe/Brussels:20251204T233000
DTSTAMP:20260422T203710
CREATED:20251002T121944Z
LAST-MODIFIED:20251129T175537Z
UID:5213-1764873000-1764891000@corpsconsulaireliege.be
SUMMARY:Soirée de Gala du Corps Consulaire Jeudi 4 Décembre (Inscriptions clôturées)
DESCRIPTION:Ce contenu est protégé
URL:https://corpsconsulaireliege.be/evenement/soiree-de-gala-du-corps-consulaire-de-la-province-de-liege-4-12/
LOCATION:Salle Philharmonique de Liège\, Boulevard Piercot\, 25/27\, Liège\, Liège\, 4000\, Belgium
CATEGORIES:Événements diplomatiques
END:VEVENT
BEGIN:VEVENT
DTSTART;TZID=Europe/Paris:20250507T133000
DTEND;TZID=Europe/Paris:20250507T190000
DTSTAMP:20260422T203710
CREATED:20250403T223558Z
LAST-MODIFIED:20250527T215223Z
UID:4437-1746624600-1746644400@corpsconsulaireliege.be
SUMMARY:Colloque du Corps Consulaire de la province de Liège 7 mai 2025 : quelques moments choisis...
DESCRIPTION:Mercredi 7 mai 2025 de 13h30 à 19h00\n\n\n\nINVITATION \n\n\n\n\n\n\n\nCORPS CONSULAIRE DE LA PROVINCE DE LIÈGE\n\n\n\n\n\n\n\nLe Corps Consulaire de la province de Liège a le plaisir de vous convier au colloque scientifique \n\n\n\nLes relations internationales de Liège\n\n\n\nDe la Principauté à la Métropole\n\n\n\n\n\n\n\nLe 7 mai 2025\, de 13h30 à 19h00Salle académique de l’Université de Liège\, Place du 20-août 7 – 4000 Liège \n\n\n\n\n\n\n\nCe colloque\, placé sous la direction scientifique de la professeure Catherine LANNEAU\, apportera un regard historique et prospectif sur les relations internationales de Liège. \n\n\n\nIl permettra de dégager les actions qui devraient être entreprises pour encore renforcer la position de Liège et sa région au niveau international et accroître ainsi sa prospérité et son influence. \n\n\n\n\n\n\n\nProgramme\n\n\n\nIntroduction générale et point de vue d’un praticien des relations internationalesJean-Arthur REGIBEAU\, ancien Ambassadeur de Belgique en Russie et aux USAPoint de vue historiqueLes Professeurs Bruno DEMOULIN et Catherine LANNEAUPoint de vue institutionnelLe Professeur Christian BEHRENDTPoint de vue de l’intelligence territoriale\, approche socio-économique et prospectiveLe Professeur Philippe DESTATTE\n\n\n\nPause-café\n\n\n\n\n\n\n\nPanel d’acteurs de terrain\n\n\n\nModérateurBernard PIETTE\, Président du Corps consulaire de la province de LiègeSportAmaury BERTHOLOME\, Directeur général du Circuit de Spa-FrancorchampsAcadémiqueOriana BERTUCCI\, Directrice des Relations internationales de l’ULiègeEntreprisesLaurent JOSSART\, CEO de Liège AirportPolitiqueKarl-Heinz LAMBERTZ\, Ancien Ministre-Président de la Communauté germanophoneCulturelStephano PACE\, Directeur général et artistique de l’Opéra Royal de Wallonie-Liège\n\n\n\nCocktail de clôture au Théâtre de Liège\n\n\n\nQuelques moments choisis : \n\n\n\n\n\n\n\n\n\n\n\n \n\n\n\nLieu de l’événement :\n\n\n\n\n\n\n\n\n\nEn partenariat avec les membres de la Commission de concertation internationale du Corps Consulaire de la province de Liège :\n\n\n\n\n\n\n\n\n\n\n\n\n\n\n\n\n\n\n\n\n\n\n\n\n\n\n\n\n\n\n\n\n\n\n\n\n\nAvec le soutien des Associations :
URL:https://corpsconsulaireliege.be/evenement/colloque-du-corps-consulaire-de-la-province-de-liege-7-mai-2025/
LOCATION:Salle académique de l’ULiege\, Place du 20-août. 7\, LIÈGE\, Wallonia\, 4000\, Belgium
CATEGORIES:Événements diplomatiques
ATTACH;FMTTYPE=image/jpeg:https://corpsconsulaireliege.be/wp-content/uploads/2025/04/palais_princes_eveques.jpg
END:VEVENT
END:VCALENDAR